BEGIN:VCALENDAR
VERSION:2.0
PRODID:-//Geauga County Board of Mental Health and Recovery Services - ECPv6.15.17.1//NONSGML v1.0//EN
CALSCALE:GREGORIAN
METHOD:PUBLISH
X-WR-CALNAME:Geauga County Board of Mental Health and Recovery Services
X-ORIGINAL-URL:https://www.geauga.org
X-WR-CALDESC:Events for Geauga County Board of Mental Health and Recovery Services
REFRESH-INTERVAL;VALUE=DURATION:PT1H
X-Robots-Tag:noindex
X-PUBLISHED-TTL:PT1H
BEGIN:VTIMEZONE
TZID:America/New_York
BEGIN:DAYLIGHT
TZOFFSETFROM:-0500
TZOFFSETTO:-0400
TZNAME:EDT
DTSTART:20250309T070000
END:DAYLIGHT
BEGIN:STANDARD
TZOFFSETFROM:-0400
TZOFFSETTO:-0500
TZNAME:EST
DTSTART:20251102T060000
END:STANDARD
BEGIN:DAYLIGHT
TZOFFSETFROM:-0500
TZOFFSETTO:-0400
TZNAME:EDT
DTSTART:20260308T070000
END:DAYLIGHT
BEGIN:STANDARD
TZOFFSETFROM:-0400
TZOFFSETTO:-0500
TZNAME:EST
DTSTART:20261101T060000
END:STANDARD
BEGIN:DAYLIGHT
TZOFFSETFROM:-0500
TZOFFSETTO:-0400
TZNAME:EDT
DTSTART:20270314T070000
END:DAYLIGHT
BEGIN:STANDARD
TZOFFSETFROM:-0400
TZOFFSETTO:-0500
TZNAME:EST
DTSTART:20271107T060000
END:STANDARD
END:VTIMEZONE
BEGIN:VEVENT
DTSTART;TZID=America/New_York:20260423T090000
DTEND;TZID=America/New_York:20260423T121500
DTSTAMP:20260423T044907
CREATED:20260210T140924Z
LAST-MODIFIED:20260210T143806Z
UID:10000049-1776934800-1776946500@www.geauga.org
SUMMARY:SUD COE: Engaging People in Conversations About Change [Chardon\, OH] - GEAUGA COUNTY ONLY
DESCRIPTION:View Flyer
URL:https://www.geauga.org/event/sud-coe-engaging-people-in-conversations-about-change-chardon-oh-geauga-county-only/
LOCATION:Board Administrative Offices\, 13244 Ravenna Rd.\, Chardon\, OH\, 44024\, United States
ATTACH;FMTTYPE=image/webp:https://www.geauga.org/wp-content/uploads/2026/02/SUD-COE-Engaging-People-in-Conversations-About-Change-April-23rd.webp
ORGANIZER;CN="Geauga County Board of Mental Health and Recovery Services":MAILTO:mhrs@geauga.org
END:VEVENT
BEGIN:VEVENT
DTSTART;TZID=America/New_York:20260520T180000
DTEND;TZID=America/New_York:20260520T200000
DTSTAMP:20260423T044907
CREATED:20250626T130612Z
LAST-MODIFIED:20260312T141920Z
UID:10000033-1779300000-1779307200@www.geauga.org
SUMMARY:Board Meeting
DESCRIPTION:GCBMHRS Board meetings are typically held on the third Wednesday of each month. All meetings are held at the Board Administrative Offices located at 13244 Ravenna Road\, Chardon\, Ohio 44024. For more information\, contact the Board office at 440-285-2282.
URL:https://www.geauga.org/event/board-meeting/2026-05-20/
LOCATION:Board Administrative Offices\, 13244 Ravenna Rd.\, Chardon\, OH\, 44024\, United States
CATEGORIES:Board Meetings
ATTACH;FMTTYPE=image/webp:https://www.geauga.org/wp-content/uploads/2025/09/banner.webp
ORGANIZER;CN="Geauga County Board of Mental Health and Recovery Services":MAILTO:mhrs@geauga.org
END:VEVENT
BEGIN:VEVENT
DTSTART;TZID=America/New_York:20260617T180000
DTEND;TZID=America/New_York:20260617T200000
DTSTAMP:20260423T044907
CREATED:20250626T130612Z
LAST-MODIFIED:20260312T141920Z
UID:10000034-1781719200-1781726400@www.geauga.org
SUMMARY:Board Meeting
DESCRIPTION:GCBMHRS Board meetings are typically held on the third Wednesday of each month. All meetings are held at the Board Administrative Offices located at 13244 Ravenna Road\, Chardon\, Ohio 44024. For more information\, contact the Board office at 440-285-2282.
URL:https://www.geauga.org/event/board-meeting/2026-06-17/
LOCATION:Board Administrative Offices\, 13244 Ravenna Rd.\, Chardon\, OH\, 44024\, United States
CATEGORIES:Board Meetings
ATTACH;FMTTYPE=image/webp:https://www.geauga.org/wp-content/uploads/2025/09/banner.webp
ORGANIZER;CN="Geauga County Board of Mental Health and Recovery Services":MAILTO:mhrs@geauga.org
END:VEVENT
BEGIN:VEVENT
DTSTART;TZID=America/New_York:20260715T180000
DTEND;TZID=America/New_York:20260715T200000
DTSTAMP:20260423T044907
CREATED:20250626T130612Z
LAST-MODIFIED:20260312T141920Z
UID:10000040-1784138400-1784145600@www.geauga.org
SUMMARY:Board Meeting
DESCRIPTION:GCBMHRS Board meetings are typically held on the third Wednesday of each month. All meetings are held at the Board Administrative Offices located at 13244 Ravenna Road\, Chardon\, Ohio 44024. For more information\, contact the Board office at 440-285-2282.
URL:https://www.geauga.org/event/board-meeting/2026-07-15/
LOCATION:Board Administrative Offices\, 13244 Ravenna Rd.\, Chardon\, OH\, 44024\, United States
CATEGORIES:Board Meetings
ATTACH;FMTTYPE=image/webp:https://www.geauga.org/wp-content/uploads/2025/09/banner.webp
ORGANIZER;CN="Geauga County Board of Mental Health and Recovery Services":MAILTO:mhrs@geauga.org
END:VEVENT
BEGIN:VEVENT
DTSTART;TZID=America/New_York:20260916T180000
DTEND;TZID=America/New_York:20260916T200000
DTSTAMP:20260423T044907
CREATED:20250626T130612Z
LAST-MODIFIED:20260312T141920Z
UID:10000041-1789581600-1789588800@www.geauga.org
SUMMARY:Board Meeting
DESCRIPTION:GCBMHRS Board meetings are typically held on the third Wednesday of each month. All meetings are held at the Board Administrative Offices located at 13244 Ravenna Road\, Chardon\, Ohio 44024. For more information\, contact the Board office at 440-285-2282.
URL:https://www.geauga.org/event/board-meeting/2026-09-16/
LOCATION:Board Administrative Offices\, 13244 Ravenna Rd.\, Chardon\, OH\, 44024\, United States
CATEGORIES:Board Meetings
ATTACH;FMTTYPE=image/webp:https://www.geauga.org/wp-content/uploads/2025/09/banner.webp
ORGANIZER;CN="Geauga County Board of Mental Health and Recovery Services":MAILTO:mhrs@geauga.org
END:VEVENT
BEGIN:VEVENT
DTSTART;TZID=America/New_York:20261016T180000
DTEND;TZID=America/New_York:20261016T200000
DTSTAMP:20260423T044907
CREATED:20250626T130612Z
LAST-MODIFIED:20260312T141920Z
UID:10000050-1792173600-1792180800@www.geauga.org
SUMMARY:Board Meeting
DESCRIPTION:GCBMHRS Board meetings are typically held on the third Wednesday of each month. All meetings are held at the Board Administrative Offices located at 13244 Ravenna Road\, Chardon\, Ohio 44024. For more information\, contact the Board office at 440-285-2282.
URL:https://www.geauga.org/event/board-meeting/2026-10-16/
LOCATION:Board Administrative Offices\, 13244 Ravenna Rd.\, Chardon\, OH\, 44024\, United States
CATEGORIES:Board Meetings
ATTACH;FMTTYPE=image/webp:https://www.geauga.org/wp-content/uploads/2025/09/banner.webp
ORGANIZER;CN="Geauga County Board of Mental Health and Recovery Services":MAILTO:mhrs@geauga.org
END:VEVENT
BEGIN:VEVENT
DTSTART;TZID=America/New_York:20261021T180000
DTEND;TZID=America/New_York:20261021T200000
DTSTAMP:20260423T044907
CREATED:20250626T130612Z
LAST-MODIFIED:20260312T141920Z
UID:10000042-1792605600-1792612800@www.geauga.org
SUMMARY:Board Meeting
DESCRIPTION:GCBMHRS Board meetings are typically held on the third Wednesday of each month. All meetings are held at the Board Administrative Offices located at 13244 Ravenna Road\, Chardon\, Ohio 44024. For more information\, contact the Board office at 440-285-2282.
URL:https://www.geauga.org/event/board-meeting/2026-10-21/
LOCATION:Board Administrative Offices\, 13244 Ravenna Rd.\, Chardon\, OH\, 44024\, United States
CATEGORIES:Board Meetings
ATTACH;FMTTYPE=image/webp:https://www.geauga.org/wp-content/uploads/2025/09/banner.webp
ORGANIZER;CN="Geauga County Board of Mental Health and Recovery Services":MAILTO:mhrs@geauga.org
END:VEVENT
BEGIN:VEVENT
DTSTART;TZID=America/New_York:20261118T180000
DTEND;TZID=America/New_York:20261118T200000
DTSTAMP:20260423T044907
CREATED:20250626T130612Z
LAST-MODIFIED:20260312T141920Z
UID:10000043-1795024800-1795032000@www.geauga.org
SUMMARY:Board Meeting
DESCRIPTION:GCBMHRS Board meetings are typically held on the third Wednesday of each month. All meetings are held at the Board Administrative Offices located at 13244 Ravenna Road\, Chardon\, Ohio 44024. For more information\, contact the Board office at 440-285-2282.
URL:https://www.geauga.org/event/board-meeting/2026-11-18/
LOCATION:Board Administrative Offices\, 13244 Ravenna Rd.\, Chardon\, OH\, 44024\, United States
CATEGORIES:Board Meetings
ATTACH;FMTTYPE=image/webp:https://www.geauga.org/wp-content/uploads/2025/09/banner.webp
ORGANIZER;CN="Geauga County Board of Mental Health and Recovery Services":MAILTO:mhrs@geauga.org
END:VEVENT
END:VCALENDAR